BEGIN:VCALENDAR
VERSION:2.0
PRODID:-//wp-events-plugin.com//6.0.1.1//EN
BEGIN:VEVENT
UID:865e5ee1-79fc-4fa3-8f5e-b3a69b65dd5c
DTSTART:20261126T080000Z
DTEND:20261128T180000Z
DTSTAMP:20260424T080028Z
SUMMARY:World Conference on Cardiology and Cardiovascular Research
DESCRIPTION:The World Conference on Cardiology and Cardiovascular Research (WCCCR-2026) will be held in Osaka\, Japan\, from November 26–28\, 2026. This prestigious international conference will bring together leading cardiologists\, researchers\, clinicians\, and healthcare professionals from around the world. WCCCR-2026 aims to advance innovation\, research\, and collaboration in the field of cardiovascular science and medicine.
LOCATION:Osaka Marriott Miyako  Hotel\, 1-chōme-1-43 Abenosuji\, Abeno Ward\, Osaka\, Japan\, 77002\, Japan
URL:https://eventstopten.com/events/world-conference-on-cardiology-and-cardiovascular-research/
END:VEVENT
END:VCALENDAR