BEGIN:VCALENDAR
VERSION:2.0
PRODID:-//wp-events-plugin.com//6.0.1.1//EN
BEGIN:VEVENT
UID:5c772578-20a0-453e-8fd7-5be22dc2b556
DTSTART:20260916T090000Z
DTEND:20260918T050000Z
DTSTAMP:20260313T113030Z
SUMMARY:VIET INDUSTRY 2026 – INTERNATIONAL EXHIBITION ON INDUSTRIAL INFRASTRUCTURE\, CONSTRUCTION AND UTILITIES
DESCRIPTION:Viet Industry 2026 is an international exhibition on industry and supply chains\, connecting manufacturers\, solution providers\, and investors to showcase technologies\, foster B2B collaboration\, and promote sustainable industrial development in Vietnam.
LOCATION:Vietnam Exhibition Center (VEC)\, Km5+890\, Truong Sa Road\, Dong Anh District\, Hanoi\, Vietnam\, Km5+890\, Truong Sa Road\, Dong Anh District\, Hanoi\, Vietnam\, Ha Noi\, Dong Anh\, 1000\, Dong Anh\, Vietnam
URL:https://eventstopten.com/events/viet-industry-2026-international-exhibition-on-industrial-infrastructure-construction-and-utilities/
END:VEVENT
END:VCALENDAR