BEGIN:VCALENDAR
VERSION:2.0
PRODID:-//wp-events-plugin.com//6.0.1.1//EN
BEGIN:VEVENT
UID:5ed41d27-30e1-497d-becf-db03fefeef1b
DTSTART:20261019T090000Z
DTEND:20261020T150000Z
DTSTAMP:20260313T130023Z
SUMMARY:V Euro Anesthesiology and Critical Care Congress
DESCRIPTION:V Euro Anesthesiology and Critical Care Congress (EACCM 2026) will be held on October 19-20\, 2026\, offering an exceptional platform for learning\, collaboration\, and innovation in anesthesiology and critical care. With both in-person and virtual participation options\, the congress welcomes speakers and delegates from around the world to engage in an enriching scientific experience.\n\nEACCM 2026 brings together renowned anesthesiologists\, surgeons\, clinicians\, and healthcare professionals to exchange knowledge\, explore the latest research\, and discuss emerging practices that are shaping the future of patient care. The program features keynote lectures\, panel discussions\, oral and poster presentations\, and interactive sessions designed to enhance both clinical expertise and leadership skills.\n\nConference Central Topics:\n\n 	AI Innovations in Anesthesiology\n 	Anesthesiology and Reanimation Medicine\n 	Obstetric Anesthesia and Perinatology\n 	Acute and Chronic Pain Management\n 	Airway Management and Vascular Access\n 	Cardiac\, Thoracic and Vascular Anesthesia\n 	Neuroanesthesia and Neurocritical Care\n 	Allergy\, Immunology and Pediatric Critical Care\n 	Anesthesia and Intensive Care Medicine\n 	Perioperative and Ambulatory Anesthesia\n 	Trauma and Advanced Critical Care\n 	Global Anesthesia and Surgical Safety\n 	Interventional Anesthesia and Palliative Care\n
LOCATION:Holiday Inn\, Wanda-Kallenbach-Straße 2\, Berlin\, Berlin\, 10243\, Germany
URL:https://eventstopten.com/events/v-euro-anesthesiology-and-critical-care-congress/
END:VEVENT
END:VCALENDAR