BEGIN:VCALENDAR
VERSION:2.0
PRODID:-//wp-events-plugin.com//6.0.1.1//EN
BEGIN:VEVENT
UID:636e648e-f2db-4c56-8827-326e6a2b6279
DTSTART:20260823T093000Z
DTEND:20260825T180000Z
DTSTAMP:20260313T100032Z
SUMMARY:Traditional Medicine and Ethnomedicine World Conference (TMEWC) 2026
DESCRIPTION:In a world characterized by technological progress and scientific accuracy\, there is increasing acknowledgment of the richness invested in centuries-long healing practices. The Traditional Medicine and Ethnomedicine World Conference 2026 offers a vibrant international forum for scientists\, traditional healers\, scholars\, and medical practitioners to explore the richness\, diversity\, and contemporary relevance of traditional and indigenous health systems.\n\nOrganized by Precision Global Conferences\nAugust 23-25\, 2026\, | Dubai | Hybrid Format\nTheme: Future Directions in Traditional Medicine: Integrative Models\, Innovation\, and Holistic Care\n\nThis global convening honors traditions like Ayurveda\, Traditional Chinese Medicine\, African ethnomedicine\, Native American healing\, and more\, highlighting how these systems are shaping holistic and integrative strategies in contemporary healthcare.
LOCATION:Dubai\, 601 King St Ste 200 #853 Alexandria\, VA 22314\, United States\,  Dubai\, United Arab Emirates\, 56421\, United Arab Emirates\, United Arab Emirates
URL:https://eventstopten.com/events/traditional-medicine-and-ethnomedicine-world-conference-tmewc-2026/
END:VEVENT
END:VCALENDAR