BEGIN:VCALENDAR
VERSION:2.0
PRODID:-//wp-events-plugin.com//6.0.1.1//EN
BEGIN:VEVENT
UID:cf4f743c-0b8c-475b-8790-b0bc7fbc015e
DTSTART:20260725T153000Z
DTEND:20260729T130000Z
DTSTAMP:20260421T080100Z
SUMMARY:The National Conference on Wilderness Medicine at Big Sky\, MT
DESCRIPTION:The National Conference on Wilderness Medicine in Big Sky\, Montana is one of the premier and longest-running CME conferences in wilderness and travel medicine. Designed for healthcare professionals across all specialties\, the conference delivers practical\, experience-based education focused on providing care in remote\, resource-limited\, and high-risk environments.\n\nOver five days\, attendees will participate in more than 30 expert-led presentations covering essential topics such as environmental exposure\, altitude illness\, trauma care\, expedition medicine\, and emergency response in austere settings. Sessions are taught by renowned faculty and emphasize real-world application\, equipping participants with skills they can immediately apply in both wilderness and traditional clinical settings.\n\nIn addition to the core conference\, participants may enhance their experience through optional hands-on workshops focused on wilderness survival\, trauma management\, and improvised medical techniques. For those seeking advanced training\, the Advanced Wilderness and Expedition Provider (AWEP) Certification® offers an intensive\, scenario-based course designed to prepare providers for leadership roles in expedition and remote medicine.\n\nThis conference is ideal for physicians\, advanced practice providers\, nurses\, EMS professionals\, and anyone interested in wilderness\, travel\, or expedition medicine-whether preparing for global health work\, practicing in rural environments\, or looking to expand their clinical skillset.
LOCATION:Big Sky Resort\, 50 Big Sky Resort Road\, Big Sky\, Montana\, 59716\, United States
URL:https://eventstopten.com/events/the-national-conference-on-wilderness-medicine-at-big-sky-mt/
END:VEVENT
END:VCALENDAR