BEGIN:VCALENDAR
VERSION:2.0
PRODID:-//wp-events-plugin.com//6.0.1.1//EN
BEGIN:VEVENT
UID:d632d852-0f9e-42be-9349-2b27602cc71d
DTSTART:20260616T203000Z
DTEND:20260618T203000Z
DTSTAMP:20260422T080051Z
SUMMARY:The 4th World Congress of AI Industry
DESCRIPTION:The 4th World Congress of AI Industry (WCAI-2026) aims to strengthen the technical and business ties in global Artificial Intelligence industries and provide a stimulating platform for researchers\, scientists\, engineers\, and practitioners to present their latest research findings\, ideas\, developments and applications in all aspects of AI. After months' preparation by the organizing committee\, we are proposing the ambitious and unique program which includes the Opening Ceremony &amp\; Keynote Forum\, High-end Experts' Talk\, Application and Development of AI\, Business Development of AI Industry\, Project Matchmaking\, AI Exhibition\, etc.
LOCATION:Japan\,  1-13-11 Nanko-Kita\, Suminoe-Ku\, Osaka\, Japan\, 559-0034\, Japan\, Osaka\, Japan\, 559-0034\, Japan
URL:https://eventstopten.com/events/the-4th-world-congress-of-ai-industry/
END:VEVENT
END:VCALENDAR