BEGIN:VCALENDAR
VERSION:2.0
PRODID:-//wp-events-plugin.com//6.0.1.1//EN
BEGIN:VEVENT
UID:79ea3923-2b06-476c-af8b-1ef584e34ae3
DTSTART:20260616T083000Z
DTEND:20260618T050000Z
DTSTAMP:20260422T160117Z
SUMMARY:The 4th Smart Manufacturing Forum
DESCRIPTION:The Annual Congress of International Drug Discovery Science &amp\;Technology (IDDST) initiated since 2003\, it has been successfully hosted in Shanghai (China)\, Beijing (China)\, Shenzhen (China)\, Nanjing (China)\, Haikou (China)\, Suzhou (China)\, Xi’an (China)\, Gyeonggi (South Korea)\, Osaka (Japan)\, Boston (USA)\, Osaka\, Kyoto\, Tokyo\, Kobe (Japan)\, Amsterdam (the Netherlands)\, Budapest (Hungary) and Stockholm (Sweden) has attracted more than 10\,000 participants from over 50 countries and regions in the previous 21 years. This year\, the 22th Annual Congress of International Drug Discovery Science &amp\; Technology-2026 (IDDST-2026) will be held during June 16-18\, 2026 at Osaka\, Japan.
LOCATION:Grand Prince Hotel Osaka Bay\, 1-13-11 Nanko-Kita\, Suminoe-Ku\, Osaka\, Japan\, 559-0034\, Japan\, Osaka\, Japan\, 559-0034\, Japan
URL:https://eventstopten.com/events/the-4th-smart-manufacturing-forum/
END:VEVENT
END:VCALENDAR