BEGIN:VCALENDAR
VERSION:2.0
PRODID:-//wp-events-plugin.com//6.0.1.1//EN
BEGIN:VEVENT
UID:bebd424d-a6fa-4584-988b-a3259c9b0c01
DTSTART:20260424T230000Z
DTEND:20260426T190000Z
DTSTAMP:20260424T080017Z
SUMMARY:The 2026 Black Food Truck Festival
DESCRIPTION:\n\n\nCelebrating 5 years of the Black Food Truck Festival in Charleston\, SC—Black-owned food\, music &amp\; culture in the Lowcountry.\n\n\n\n\n\n\nWelcome to The 2026 Black Food Truck Festival 5 Year Anniversary\, a family oriented event celebrating the finest Black-owned food trucks in the country! Our mission is to create a social and economic impact on the community by showcasing and investing in area Black-owned businesses.\n\nJoin us April 24th-26th\, 2026\, in Charleston\, South Carolina\, for an incredible weekend of non-stop food\, music\, and culture! From our Friday night soiree\, Rhythms &amp\; Booze\, to the Black Food Truck Festival on Saturday and Sunday at Exchange Park\, to afterparties\, workouts\, and so much more—we are excited to celebrate again and enjoy with all of you!\n\n\n
LOCATION:The Exchange Park Fair grounds\, 9850 Highway 78\, Ladson\, South Carolina\, 29456\, United States
URL:https://eventstopten.com/events/the-2026-black-food-truck-festival-2/
END:VEVENT
END:VCALENDAR