BEGIN:VCALENDAR
VERSION:2.0
PRODID:-//wp-events-plugin.com//6.0.1.1//EN
BEGIN:VEVENT
UID:c38dbcc1-9d72-487f-ab85-a3e5b305e651
DTSTART;VALUE=DATE:20260508
DTEND;VALUE=DATE:20260510
DTSTAMP:20260402T160037Z
SUMMARY:The 18th China Int\\\\\\'l Integrated Housing Industry &amp\; Building Industrialization Expo
DESCRIPTION:China Int'l Integrated Housing Industry &amp\; Building Industrialization Expo (CIHIE) is one of the largest-scale\, highest-standard\, and most cutting-edge technology events in the industry.\n\nClosely following the development trends of the global residential industry\, it closely integrates the residential industry with high-tech\, comprehensively promotes the concepts and practical achievements of green development in the field of urban and rural construction\, drives the transformation and upgrading of the construction industry\, injects strong impetus into building industrialization\, and provides a broad platform for the construction and building materials industry.\n\nTherefore\, it is praised as the "Canton Fair" in the field of prefabricated construction. As a pioneer and leader in China's building industrialization platform\, China Int'l Integrated Housing Industry &amp\; Building Industrialization Expo has successively provided docking services for more than 4\,000 customers\, covering product displays\, technical exchanges\, project inspections\, and engineering centralized procurement.\n\nIt has also established long-term and stable cooperative development relationships with numerous real estate developers\, design institutes\, and construction enterprises.
LOCATION:Poly World Trade Center Expo\, Poly World Trade Center\, No.1000 Xinggangdong Road\, Pazhou Revenue\, Haizhu district\, Guangzhou City\, Guangdong Province\, China\, Guangzhou\, Guangdong\, 510000\, China
URL:https://eventstopten.com/events/the-18th-china-intl-integrated-housing-industry-building-industrialization-expo/
END:VEVENT
END:VCALENDAR