BEGIN:VCALENDAR
VERSION:2.0
PRODID:-//wp-events-plugin.com//6.0.1.1//EN
BEGIN:VEVENT
UID:296774fc-b249-43d1-9570-b4cde72729af
DTSTART;VALUE=DATE:20260910
DTEND;VALUE=DATE:20260912
DTSTAMP:20260314T001516Z
SUMMARY:The 13th International Conference on Arts and Humanities
DESCRIPTION:We hope ICOAH 2026 will unite diverse research and case studies from all over the world\, in parallel sessions while offering many networking and publishing opportunities. Discover the latest trends and challenges in the field at this leading conference.
LOCATION:Bali\, Bali\, Indonesia\, Bali\, Bali\, 80234 \, Indonesia
URL:https://eventstopten.com/events/the-13th-international-conference-on-arts-and-humanities/
END:VEVENT
END:VCALENDAR