BEGIN:VCALENDAR
VERSION:2.0
PRODID:-//wp-events-plugin.com//6.0.1.1//EN
BEGIN:VEVENT
UID:9a9c56ea-2c79-4cc0-b597-1a8bbb401242
DTSTART:20260917T083000Z
DTEND:20260918T183000Z
DTSTAMP:20260314T023025Z
SUMMARY:The 13th International Conference on Agriculture 2026 ( AGRICO 2026)
DESCRIPTION:Welcome to the 13th International Conference on Agriculture 2026\, which will take place 17th – 18th September 2026 in Bali\,Indonesia (Hybrid Platform)\, exploring the latest research\, ideas\, and solutions related to Agriculture. This conference is a unique opportunity to connect with leading educators\, researchers\, policymakers\, and other stakeholders from around the world.
LOCATION:Four Star by Trans Hotel\, Jl. Raya Puputan No.200\, Renon\, Denpasar Selatan\, Kota Denpasar\, Bali 80226\, Indonesia\, Bali\, Bali\, 80361 \, Bali\, Indonesia
URL:https://eventstopten.com/events/the-13th-international-conference-on-agriculture-2026-agrico-2026/
END:VEVENT
END:VCALENDAR