BEGIN:VCALENDAR
VERSION:2.0
PRODID:-//wp-events-plugin.com//6.0.1.1//EN
BEGIN:VEVENT
UID:3780bb8c-d3c9-4691-954b-405bb0205311
DTSTART:20260702T090000Z
DTEND:20260703T160000Z
DTSTAMP:20260313T124541Z
SUMMARY:TECHSPO Tokyo 2026 Technology Expo (Internet ~ Mobile ~ AdTech ~ MarTech ~ SaaS)
DESCRIPTION:TECHSPO Tokyo – Where Business\, Tech and Innovation Collide in Tokyo\, Japan!\nTECHSPO Tokyo Technology Expo returns July 2-3\, 2026 to the Hilton Tokyo Bay Hotel in Tokyo\, Japan. This must-attend\, two-day annual event brings together leading developers\, marketers\, innovators\, and technology enthusiasts eager to showcase and explore the latest in tech and digital solutions. From groundbreaking Internet advancements to cutting-edge Mobile\, AdTech\, MarTech\, and SaaS technologies\, TECHSPO Tokyo 2026 is where the next generation of technology and innovation takes center stage. Be prepared to be inspired\, amazed and educated on how these evolving technologies will impact your business for greater growth.
LOCATION:Hilton Tokyo Bay Hotel\, Hilton Tokyo Bay Hotel 1-8 Maihama Tokyo\, Tokyo\, Tokyo\, 279-0031\, Tokyo\, Japan
URL:https://eventstopten.com/events/techspo-tokyo-2026-technology-expo-internet-mobile-adtech-martech-saas/
END:VEVENT
END:VCALENDAR