BEGIN:VCALENDAR
VERSION:2.0
PRODID:-//wp-events-plugin.com//6.0.1.1//EN
BEGIN:VEVENT
UID:5b8bc6c3-7659-485f-b20b-b0b0a301cf6c
DTSTART:20260826T090000Z
DTEND:20260827T160000Z
DTSTAMP:20260313T140107Z
SUMMARY:TECHSPO Singapore 2026 Technology Expo (Internet ~ Mobile ~ AdTech ~ MarTech ~ SaaS)
DESCRIPTION:TECHSPO Singapore – Where Business\, Tech and Innovation Collide in Singapore!\nTECHSPO Singapore Technology Expo returns August 26-27\, 2026 to the Four Points by Sheraton Singapore Riverview Hotel in Singapore. This must-attend\, two-day annual event brings together leading developers\, marketers\, innovators\, and technology enthusiasts eager to showcase and explore the latest in tech and digital solutions. From groundbreaking Internet advancements to cutting-edge Mobile\, AdTech\, MarTech\, and SaaS technologies\, TECHSPO Singapore 2026 is where the next generation of technology and innovation takes center stage. Be prepared to be inspired\, amazed and educated on how these evolving technologies will impact your business for greater growth.
LOCATION:Four Points by Sheraton Singapore Riverview Hotel\, Four Points by Sheraton Singapore Riverview Hotel 382 Havelock Rd Singapore\, Singapore\, Singapore\, 169629\, Singapore\, Singapore
URL:https://eventstopten.com/events/techspo-singapore-2026-technology-expo-internet-mobile-adtech-martech-saas-2/
END:VEVENT
END:VCALENDAR