BEGIN:VCALENDAR
VERSION:2.0
PRODID:-//wp-events-plugin.com//6.0.1.1//EN
BEGIN:VEVENT
UID:9be9b412-ece8-4e9a-b687-c8bbefaded75
DTSTART:20260616T090000Z
DTEND:20260617T170000Z
DTSTAMP:20260314T131527Z
SUMMARY:TECHSPO Silicon Valley 2026 Technology Expo (Internet ~ Mobile ~ AdTech ~ MarTech ~ SaaS)
DESCRIPTION:TECHSPO Silicon Valley Technology Expo - June 16-17\, 2026 - San Francisco\, CA
LOCATION:Grand Hyatt San Francisco Hotel\, 345 Stockton St\, San Francisco\, California\, 94108\, California\, United States
URL:https://eventstopten.com/events/techspo-silicon-valley-2026-technology-expo-internet-mobile-adtech-martech-saas/
END:VEVENT
END:VCALENDAR