BEGIN:VCALENDAR
VERSION:2.0
PRODID:-//wp-events-plugin.com//6.0.1.1//EN
BEGIN:VEVENT
UID:e554f907-941c-4561-8a11-6d2633de9de2
DTSTART:20260611T090000Z
DTEND:20260612T160000Z
DTSTAMP:20260313T104532Z
SUMMARY:TECHSPO Phoenix 2026 Technology Expo (Internet ~ Mobile ~ AdTech ~ MarTech ~ SaaS)
DESCRIPTION:TECHSPO Phoenix – Where Business\, Tech and Innovation Collide in Phoenix\, AZ!\nTECHSPO Phoenix Technology Expo returns June 11-12\, 2026 to the Hyatt Regency Hotel in Phoenix\, Arizona. This must-attend\, two-day annual event brings together leading developers\, marketers\, innovators\, and technology enthusiasts eager to showcase and explore the latest in tech and digital solutions. From groundbreaking Internet advancements to cutting-edge Mobile\, AdTech\, MarTech\, and SaaS technologies\, TECHSPO Phoenix 2026 is where the next generation of technology and innovation takes center stage. Be prepared to be inspired\, amazed and educated on how these evolving technologies will impact your business for greater growth.
LOCATION:Hyatt Regency Phoenix Hotel\, Hyatt Regency Phoenix Hotel 122 N 2nd St\, Phoenix\, AZ\, 85004\, AZ\, United States
URL:https://eventstopten.com/events/techspo-phoenix-2026-technology-expo-internet-mobile-adtech-martech-saas/
END:VEVENT
END:VCALENDAR