BEGIN:VCALENDAR
VERSION:2.0
PRODID:-//wp-events-plugin.com//6.0.1.1//EN
BEGIN:VEVENT
UID:9e918f96-08e7-4fd6-8b57-43028988b09b
DTSTART:20261008T090000Z
DTEND:20261009T160000Z
DTSTAMP:20260314T021509Z
SUMMARY:TECHSPO Philadelphia 2026 Technology Expo (Internet ~ Mobile ~ AdTech ~ MarTech ~ SaaS)
DESCRIPTION:TECHSPO Philadelphia – Where Business\, Tech and Innovation Collide in Philadelphia\, PA!\nTECHSPO Philadelphia Technology Expo returns October 8-9\, 2026 to the Live! Casino &amp\; Hotel Philadelphia. This must-attend\, two-day annual event brings together leading developers\, marketers\, innovators\, and technology enthusiasts eager to showcase and explore the latest in tech and digital solutions. From groundbreaking Internet advancements to cutting-edge Mobile\, AdTech\, MarTech\, and SaaS technologies\, TECHSPO Philadelphia 2026 is where the next generation of technology and innovation takes center stage. Be prepared to be inspired\, amazed and educated on how these evolving technologies will impact your business for greater growth.
LOCATION:Live! Casino &amp\; Hotel Philadelphia\, Live! Casino &amp\; Hotel Philadelphia 900 Packer Ave\, Philadelphia\, PA\, 19148\, PA\, United States
URL:https://eventstopten.com/events/techspo-philadelphia-2026-technology-expo-internet-mobile-adtech-martech-saas/
END:VEVENT
END:VCALENDAR