BEGIN:VCALENDAR
VERSION:2.0
PRODID:-//wp-events-plugin.com//6.0.1.1//EN
BEGIN:VEVENT
UID:3c70254b-7c37-45bd-801b-5de642d4f9c9
DTSTART:20261014T090000Z
DTEND:20261015T160000Z
DTSTAMP:20260314T104518Z
SUMMARY:TECHSPO Miami 2026 Technology Expo (Internet ~ Mobile ~ AdTech ~ MarTech ~ SaaS)
DESCRIPTION:TECHSPO Miami – Where Business\, Tech and Innovation Collide in Miami\, FL!\nTECHSPO Miami Technology Expo returns October 14-15\, 2026 to the Hyatt Regency Miami Hotel in Miami\, Florida. This must-attend\, two-day annual event brings together leading developers\, marketers\, innovators\, and technology enthusiasts eager to showcase and explore the latest in tech and digital solutions. From groundbreaking Internet advancements to cutting-edge Mobile\, AdTech\, MarTech\, and SaaS technologies\, TECHSPO Miami 2026 is where the next generation of technology and innovation takes center stage. Be prepared to be inspired\, amazed and educated on how these evolving technologies will impact your business for greater growth.
LOCATION:Hyatt Regency Miami Hotel\, 400 SE 2nd St\, Miami\, Florida\, USA\, 33131\, Miami\, FL\, 33131\, FL\, United States
URL:https://eventstopten.com/events/techspo-miami-2026-technology-expo-internet-mobile-adtech-martech-saas/
END:VEVENT
END:VCALENDAR