BEGIN:VCALENDAR
VERSION:2.0
PRODID:-//wp-events-plugin.com//6.0.1.1//EN
BEGIN:VEVENT
UID:91dcdbd5-4510-4fb7-81d4-9a44d46a57d4
DTSTART:20260903T090000Z
DTEND:20260904T160000Z
DTSTAMP:20260313T211509Z
SUMMARY:TECHSPO London 2026 Technology Expo (Internet ~ Mobile ~ AdTech ~ MarTech ~ SaaS)
DESCRIPTION:TECHSPO London – Where Business\, Tech and Innovation Collide in London\, UK!\nTECHSPO London Technology Expo returns September 3-4\, 2026 to the InterContinental Park Lane London Hotel in London\, United Kingdom. This must-attend\, two-day annual event brings together leading developers\, marketers\, innovators\, and technology enthusiasts eager to showcase and explore the latest in tech and digital solutions. From groundbreaking Internet advancements to cutting-edge Mobile\, AdTech\, MarTech\, and SaaS technologies\, TECHSPO London 2026 is where the next generation of technology and innovation takes center stage. Be prepared to be inspired\, amazed and educated on how these evolving technologies will impact your business for greater growth.te
LOCATION:InterContinental Park Lane London Hotel\, InterContinental Park Lane London Hotel One Hamilton Place\, Park Ln\, London\, United Kingdom\, W1J 7QY\, United Kingdom\, United Kingdom
URL:https://eventstopten.com/events/techspo-london-2026-technology-expo-internet-mobile-adtech-martech-saas/
END:VEVENT
END:VCALENDAR