BEGIN:VCALENDAR
VERSION:2.0
PRODID:-//wp-events-plugin.com//6.0.1.1//EN
BEGIN:VEVENT
UID:3db1cb3b-9819-4ed0-b4de-f9e7f3e1c1a5
DTSTART:20260519T090000Z
DTEND:20260520T160000Z
DTSTAMP:20260313T101548Z
SUMMARY:TECHSPO Chicago 2026 Technology Expo (Internet ~ Mobile ~ AdTech ~ MarTech ~ SaaS)
DESCRIPTION:TECHSPO Chicago – Where Business\, Tech and Innovation Collide in Chicago\, IL!\nTECHSPO Chicago Technology Expo returns May 19-20\, 2026 to the Soldier Field Stadium in Chicago\, Illinois. This must-attend\, two-day annual event brings together leading developers\, marketers\, innovators\, and technology enthusiasts eager to showcase and explore the latest in tech and digital solutions. From groundbreaking Internet advancements to cutting-edge Mobile\, AdTech\, MarTech\, and SaaS technologies\, TECHSPO Chicago 2026 is where the next generation of technology and innovation takes center stage. Be prepared to be inspired\, amazed and educated on how these evolving technologies will impact your business for greater growth.
LOCATION:Soldier Field Stadium\, Soldier Field Stadium 1410 Museum Campus Dr\, Chicago\, IL\, 60605\, IL\, United States
URL:https://eventstopten.com/events/techspo-chicago-2026-technology-expo-internet-mobile-adtech-martech-saas-2/
END:VEVENT
END:VCALENDAR