BEGIN:VCALENDAR
VERSION:2.0
PRODID:-//wp-events-plugin.com//6.0.1.1//EN
BEGIN:VEVENT
UID:8c9340e5-dda9-4705-84cb-bb3c870e10d2
DTSTART;VALUE=DATE:20260428
DTEND;VALUE=DATE:20260501
DTSTAMP:20260313T114540Z
SUMMARY:Scale Up Summit 2026
DESCRIPTION:The premier conference for digital agency leaders looking to scale to sale\, bringing dev agency founders together in San Diego for expert insights to accelerate growth and maximize valuation.
LOCATION:Hard Rock Hotel San Diego\, 207 Fifth Ave\, San Diego\, CA 92101\, San Diego\, CA\, 92101\, SoCal\, United States
URL:https://eventstopten.com/events/scale-up-summit-2026/
END:VEVENT
END:VCALENDAR