BEGIN:VCALENDAR
VERSION:2.0
PRODID:-//wp-events-plugin.com//6.0.1.1//EN
BEGIN:VEVENT
UID:0437f21d-8a61-4d81-8974-b01d2386b915
DTSTART:20260528T090000Z
DTEND:20260529T170000Z
DTSTAMP:20260313T100027Z
SUMMARY:SAF Summit - Global Sustainable Aviation Fuel Summit 2026 (China)
DESCRIPTION:The summit brings together policymakers\, airlines\, SAF producers\, technology providers\, feedstock suppliers\, financial institutions and certification bodies to engage in in-depth discussions on policy alignment\, supply network development\, commercial models\, investment mechanisms and future technology pathways. By connecting China and Asia-Pacific’s SAF capabilities with the practical needs of global airlines\, the summit aims to foster cross-regional collaboration\, accelerate the transition from pilot projects to large-scale deployment\, and deliver actionable solutions to support the long-term decarbonisation of the global aviation industry.
LOCATION:\, \, 
URL:https://eventstopten.com/events/saf-summit-global-sustainable-aviation-fuel-summit-2026-china/
END:VEVENT
END:VCALENDAR