BEGIN:VCALENDAR
VERSION:2.0
PRODID:-//wp-events-plugin.com//6.0.1.1//EN
BEGIN:VEVENT
UID:238d1a91-1317-440f-ad51-0dcecb848b8e
DTSTART:20260623T090000Z
DTEND:20260624T170000Z
DTSTAMP:20260313T074542Z
SUMMARY:Reuters Events: Global Energy Forum 2026
DESCRIPTION:Reuters Events: Global Energy Forum 2026 (23-24 June\, NYC) is the premier cross-sector forum uniting 600+ decision-makers from across the energy ecosystem. Join the global energy community and develop the strategies needed to meet the world's ever-growing energy demand.\n\nA new era of energy is here - and it demands collective action.\n\nAs electrification accelerates and data center demand surges\, the pressure on global energy systems is mounting. Meeting this demand requires a bold reimagining of the energy mix\, with diverse sources creatively combined to deliver reliable and affordable power.\n\nCollaboration between energy leaders and innovators is imperative to unlock AI-driven solutions\, enhance infrastructure resilience and build profitable\, future-ready business models.\n\nHear from C-Suite leaders at Phillips 66\, Con Edison\, NiSource\, Iberdrola\, EQT Corp and E.ON\, plus many more.
LOCATION:\, \, 
URL:https://eventstopten.com/events/reuters-events-global-energy-forum-2026/
END:VEVENT
END:VCALENDAR