BEGIN:VCALENDAR
VERSION:2.0
PRODID:-//wp-events-plugin.com//6.0.1.1//EN
BEGIN:VEVENT
UID:95e27d16-f125-4eaf-92cf-b4d44b3c84f3
DTSTART:20261012T090000Z
DTEND:20261013T180000Z
DTSTAMP:20260313T090108Z
SUMMARY:Psychiatry 2026
DESCRIPTION:Welcome to the forefront of mental health and addiction research! C2P Forum is delighted to present the 2nd European Congress on Addiction and Psychiatry\, a transformative event dedicated to advancing the future of mental health care and addiction treatment. Taking place on October 12-13\, 2026\, at the Renaissance London Heathrow Hotel\, London\, UK\, this congress brings together leading experts\, clinicians\, researchers\, and mental health professionals from across the globe.
LOCATION:\, \, 
URL:https://eventstopten.com/events/psychiatry-2026-3/
END:VEVENT
END:VCALENDAR