BEGIN:VCALENDAR
VERSION:2.0
PRODID:-//wp-events-plugin.com//6.0.1.1//EN
BEGIN:VEVENT
UID:98ac473b-6909-44d0-a84c-39cfc5a6d932
DTSTART:20260526T160000Z
DTEND:20260526T200000Z
DTSTAMP:20260421T000014Z
SUMMARY:Networking Premier EMBA Event in Zurich
DESCRIPTION:Are you an ambitious professional looking to elevate your career? Are you seeking a top-tier EMBA programme that aligns perfectly with your goals and the unique dynamics of the European business landscape?\nLook no further than the Premier EMBA Event on 26 May!\nThis exclusive event will take place at the Sheraton Zurich hotel and connects you directly with admission directors from over 25 prestigious business schools\, offering you the opportunity to have all your questions answered.\nParticipating universities include University of Zurich\, IMD\, ETH\, Chicago Booth School of Business\, CEIBS\, SBS Swiss Business School\, INSEAD\, London Business School\, and many more.\nGain valuable insights\, explore part-time\, distance\, online study options designed for busy professionals\, and discover the programme that perfectly complements your career goals.
LOCATION:Sheraton Zurich Hotel\,  100 Pfingstweidstrasse \, Zürich\, Zürich\, 8005\, Switzerland
URL:https://eventstopten.com/events/networking-premier-emba-event-in-zurich/
END:VEVENT
END:VCALENDAR