BEGIN:VCALENDAR
VERSION:2.0
PRODID:-//wp-events-plugin.com//6.0.1.1//EN
BEGIN:VEVENT
UID:8d968056-665e-4fdb-8ecb-bcaa81486569
DTSTART:20260602T170000Z
DTEND:20260602T213000Z
DTSTAMP:20260420T160048Z
SUMMARY:Networking Premier EMBA Event in London
DESCRIPTION:Are you an ambitious professional looking to elevate your career? Are you seeking a top-tier EMBA programme that aligns perfectly with your goals and the unique dynamics of the European business landscape?\nLook no further than the Premier EMBA Event on 2 June!\nThis exclusive event connects you with admission directors from over 20 prestigious business schools\, offering you the opportunity to have all your questions answered.\nParticipating universities include Oxford University - Said Business School\, University of Cambridge - Judge Business School EMBA\, Imperial Business School\, London Business School\, UCL School of Management\, University of Chicago Booth\, and many more.\nGain valuable insights\, explore part-time\, distance\, online study options designed for busy professionals\, and discover the programme that perfectly complements your career goals.
LOCATION:The Dilly\,  21 Piccadilly \, London\, England\,  W1J 0BH \, United Kingdom
URL:https://eventstopten.com/events/networking-premier-emba-event-in-london/
END:VEVENT
END:VCALENDAR