BEGIN:VCALENDAR
VERSION:2.0
PRODID:-//wp-events-plugin.com//6.0.1.1//EN
BEGIN:VEVENT
UID:1e90ffaa-9e44-48b7-970b-9f7e3c660462
DTSTART:20260420T090000Z
DTEND:20260424T190000Z
DTSTAMP:20260422T153216Z
SUMMARY:MLcon Amsterdam 2026
DESCRIPTION:MLcon Amsterdam is a leading conference for machine learning\, AI\, and data innovation\, bringing together data scientists\, engineers\, and technology leaders to explore practical applications\, emerging trends\, and real-world solutions in modern artificial intelligence.
LOCATION:Van der Valk Hotel Amsterdam - Amstel\, Joan Muyskenweg 20\, 1096 CJ Amsterdam\, Netherlands\, Amsterdam\, Amsterdam\, 1096 CJ\, Netherlands
URL:https://eventstopten.com/events/mlcon-amsterdam-2026/
END:VEVENT
END:VCALENDAR