BEGIN:VCALENDAR
VERSION:2.0
PRODID:-//wp-events-plugin.com//6.0.1.1//EN
BEGIN:VEVENT
UID:b2a41979-4bbd-4bf1-8ed3-f0d54f60722e
DTSTART:20260821T090000Z
DTEND:20260823T180000Z
DTSTAMP:20260313T223023Z
SUMMARY:Mental Health World Conference 2026
DESCRIPTION:"Mental Health in a Changing World: Research\, Response\, and Resilience"\n\nTo tackle one of the most critical issues of our day—the global mental health crisis—the Mental Health World Conference (MHWC 2026) is a premier international forum that brings together experts\, policymakers\, researchers\, and mental health professionals from around the world.\n\nThis year's theme\, "Advancing Global Mental Wellness Through Science\, Systems\, and Solidarity\," reflects a renewed interest in working together across national borders\, disciplines\, and sectors. From digital innovation to trauma recovery\, and policy reform to system change\, MHWC 2026 offers a powerful platform to impact mental health agendas around the world.\n\nConference Aims\n\nOrganise high-level meetings between government representatives\, health leaders\, and researchers\; disseminate cutting-edge scientific findings in public health\, neuroscience\, and psychiatry\; fortify the global health system and mental health infrastructure\; and place a priority on care that is inclusive\, equitable\, and culturally sensitive. Encourage integrated plans to ensure universal health coverage (UHC) includes mental health.
LOCATION:Dubai\, City Seasons Suites\, Dubai 8th Street\, Port Saeed\, Deira\, Dubai\, United Arab Emirates\,  56421\, United Arab Emirates\, United Arab Emirates
URL:https://eventstopten.com/events/mental-health-world-conference-2026/
END:VEVENT
END:VCALENDAR