BEGIN:VCALENDAR
VERSION:2.0
PRODID:-//wp-events-plugin.com//6.0.1.1//EN
BEGIN:VEVENT
UID:8b5388c5-e9d8-4004-bb87-21a60bfc7501
DTSTART:20261001T073000Z
DTEND:20261003T122000Z
DTSTAMP:20260330T080029Z
SUMMARY:Mayo Clinic Multidisciplinary Opioid Conference: A United Front 2026
DESCRIPTION:The Mayo Clinic Multidisciplinary Opioid Conference: A United Front aims to highlight the shift in guidelines and public concern regarding the use of opioids in medical practice. This course provides the most up-to-date information regarding the appropriate indication for opioids in clinical practice. Topics cover the basics of opioid pharmacology and selection\, evidence-based guidelines for opioid management\, and opioid tapering\, as well as medical and interventional alternatives to opioids. In addition\, the course covers a broad range of issues\, including opioid use disorder and difficult patient conversations and guidelines to standardize the practice of opioid prescribing. This course includes lectures by experts in the field of pain medicine and opioid management as well as question and answer sessions.
LOCATION:JW Marriott Tucson Starr Pass Resort and Spa\, 3800 West Starr Pass Boulevard\, Tucson\, Arizona\, 85745\, United States
URL:https://eventstopten.com/events/mayo-clinic-multidisciplinary-opioid-conference-a-united-front-2026/
END:VEVENT
END:VCALENDAR