BEGIN:VCALENDAR
VERSION:2.0
PRODID:-//wp-events-plugin.com//6.0.1.1//EN
BEGIN:VEVENT
UID:f3537516-0250-4811-af50-53dc025db0a0
DTSTART:20261018T090000Z
DTEND:20261020T180000Z
DTSTAMP:20260313T124533Z
SUMMARY:Material Science &amp\; Engineering World Conference 2026
DESCRIPTION:The Material Science &amp\; Engineering World Conference (MSEWC 2026) is a premier global event taking place on October 18–20\, 2026\, in Bangkok\, Thailand. This conference brings together world-class researchers\, industry pioneers\, and innovators to explore groundbreaking developments\, practical applications\, and the transformative impact of materials science and engineering across industries.\n\nAbout the Conference\n\nUnder the theme:“Materials Shaping the Future: Innovation\, Impact\, and Sustainability”\,\nMSEWC 2026 will showcase the latest advancements and applications in nanomaterials\, biomaterials\, advanced polymers\, composites\, innovative materials\, energy storage solutions\, and sustainable technologies.
LOCATION:Ambassador Hotel Bangkok\, Ambassador Hotel Bangkok 171 Sukhumvit Soi 11\, Sukhumvit Road\, Klongtoey Nue\, Wattana\, 10110\, Bangkok\, Thailand\, Bangkok\, Thailand\, 10110\, Thailand
URL:https://eventstopten.com/events/material-science-engineering-world-conference-2026/
END:VEVENT
END:VCALENDAR