BEGIN:VCALENDAR
VERSION:2.0
PRODID:-//wp-events-plugin.com//6.0.1.1//EN
BEGIN:VEVENT
UID:743fcc40-166e-4c57-8107-117ea151a5ba
DTSTART:20260427T093000Z
DTEND:20260501T170000Z
DTSTAMP:20260422T153237Z
SUMMARY:Manchester Tech Week
DESCRIPTION:The UK's Most Dynamic Tech Celebration Returns\n\nManchester Tech Week (MTW) returns from 27 April - 1 May as the North's premier festival of technology\, talent\, and innovation. Powering a thriving £5bn digital economy\, MTW unites the most influential events\, partners\, and communities under one banner to cement Manchester's status as the UK's primary tech hub.\n\nThis full-scale city takeover is not one to miss. For the first time our flagship events Digital Transformation EXPO (DTX) and Unified Communications EXPO (UCX)\, are joined by Creator Economy Live (CEL) and the Internet Retailing B2B eCommerce Conference. From trade exhibitions and high-level summits to grassroots workshops and cultural fringe activations\, MTW 2026 is the ultimate destination for collaboration\, innovation\, and growth.
LOCATION:Manchester\, Manchester\, Manchester\, England\, M2 3GX\, United Kingdom
URL:https://eventstopten.com/events/manchester-tech-week/
END:VEVENT
END:VCALENDAR