BEGIN:VCALENDAR
VERSION:2.0
PRODID:-//wp-events-plugin.com//6.0.1.1//EN
BEGIN:VEVENT
UID:408c222a-634a-428c-ad15-63cdb4b5e2a5
DTSTART:20260716T100000Z
DTEND:20260717T183000Z
DTSTAMP:20260423T160032Z
SUMMARY:International Conference on Wireless &amp\; Mobile Networks
DESCRIPTION:18th International Conference on Wireless &amp\; Mobile Networks (WiMoNe 2026) will provide an excellent international forum for sharing knowledge and results in theory\, methodology and applications of Wireless &amp\; Mobile computing Environment
LOCATION:London\, United Kingdom\, London\, United Kingdom\, London\, United Kingdom\, London\, United Kingdom\, 8549868\, United Kingdom
URL:https://eventstopten.com/events/international-conference-on-wireless-mobile-networks/
END:VEVENT
END:VCALENDAR