BEGIN:VCALENDAR
VERSION:2.0
PRODID:-//wp-events-plugin.com//6.0.1.1//EN
BEGIN:VEVENT
UID:e66d9e4f-70d8-4a7e-9046-12cdab77a14d
DTSTART;VALUE=DATE:20260615
DTEND;VALUE=DATE:20260618
DTSTAMP:20260313T080056Z
SUMMARY:International Conference on Sensors and Sensing Technology
DESCRIPTION:Conplus Meeting invites researchers\, engineers\, scholars\, and professionals from around the world to participate in the International Conference on Sensors and Sensing Technology (ICSST2026)\, to be held in Florence\, Italy from June 15-17\, 2026.\n\nThe conference will include keynote lectures and plenary sessions\, technical talks\, poster presentations\, and industry exhibits\, offering a comprehensive overview of recent developments in sensor science and technology.\n\nICSST 2026 provides a platform for the exchange of ideas and collaboration across disciplines. Topics will cover a broad range of applications including MEMS/NEMS\, biosensors\, smart materials\, signal processing\, IoT systems\, robotics\, and sensing technologies for healthcare\, environment\, and industry.\n\nThis event brings together academic and industry experts committed to advancing sensor technologies and their integration into modern systems. Attendees will have the opportunity to engage with leading researchers\, share findings\, and explore emerging trends.\n\nWe look forward to welcoming you to ICSST2026 in Florence for meaningful discussions and knowledge sharing.\n\nBest regards\,\nHarshitha | Program Coordinator\nICSST2026
LOCATION:\, \, 
URL:https://eventstopten.com/events/international-conference-on-sensors-and-sensing-technology/
END:VEVENT
END:VCALENDAR