BEGIN:VCALENDAR
VERSION:2.0
PRODID:-//wp-events-plugin.com//6.0.1.1//EN
BEGIN:VEVENT
UID:992c11ef-d9a8-435f-b188-99dc10b76d2e
DTSTART:20261012T000000Z
DTEND:20261014T170000Z
DTSTAMP:20260314T001517Z
SUMMARY:INTERNATIONAL CONFERENCE ON Quantum Computing &amp\; Quantum Technology
DESCRIPTION:The International Conference on Quantum Computing &amp\; Quantum Technology will be held in Berlin\, Germany\, from 12–14 October 2026\, and is organized by Innovatex Conferences. Guided by the theme “Transforming Global Innovation through Quantum Computing &amp\; Quantum Technologies\,” this prestigious event aims to showcase the transformative role of quantum science in shaping the future of computation\, communication\, and advanced technologies.\nThe conference will host more than 30 advanced scientific sessions\, bringing together a global community of leading scientists\, researchers\, academicians\, industry experts\, technologists\, and innovators. It provides an exceptional platform to exchange ideas\, present cutting-edge research\, and explore emerging applications in key areas such as quantum computing\, quantum algorithms\, quantum communication\, quantum cryptography\, quantum sensing\, and next-generation quantum hardware.
LOCATION:Berlin\, Germany\, Berlin\, Berlin\, Berlin\, 10115\, Germany
URL:https://eventstopten.com/events/international-conference-on-quantum-computing-quantum-technology/
END:VEVENT
END:VCALENDAR