BEGIN:VCALENDAR
VERSION:2.0
PRODID:-//wp-events-plugin.com//6.0.1.1//EN
BEGIN:VEVENT
UID:426bcdb6-8cda-454c-8a8e-b26d21d928f4
DTSTART:20260518T000000Z
DTEND:20260520T000000Z
DTSTAMP:20260313T221509Z
SUMMARY:International Conference on INNOVATIONS IN MATERIALS SCIENCE
DESCRIPTION:IMS 2026 — the International Materials Science Conference — is a leading global event taking place in Orlando\, Florida\, USA\, bringing together top researchers\, engineers\, nanotechnology specialists\, and industry professionals.
LOCATION:United State\, Orlando\, Orlando\, Florida\, 32801\, United States
URL:https://eventstopten.com/events/international-conference-on-innovations-in-materials-science-3/
END:VEVENT
END:VCALENDAR