BEGIN:VCALENDAR
VERSION:2.0
PRODID:-//wp-events-plugin.com//6.0.1.1//EN
BEGIN:VEVENT
UID:53a4011b-8d51-469d-9497-4e7cef7e2623
DTSTART:20261125T080000Z
DTEND:20261126T173000Z
DTSTAMP:20260425T160013Z
SUMMARY:International Conference on Generative AI and Ethical Innovation 2026
DESCRIPTION:The International Conference on Generative AI and Ethical Innovation will be held on November 25-26 in Budapest\, Hungary. This two-day global event brings together leading researchers\, technologists\, industry innovators\, policymakers\, and ethics experts to explore the latest developments in generative artificial intelligence and the ethical frameworks needed for responsible technology adoption.\n\nThrough inspiring plenary\, keynote addresses\, expert panels\, technical paper sessions\, and interactive workshops\, the conference will cover foundational and applied topics in generative AI such as large language models\, multimodal systems\, and real-world applications alongside critical discussions on fairness\, transparency\, accountability\, AI governance\, and sustainable impact. Participants will gain insights into building trustworthy AI systems that advance innovation while safeguarding societal values.\n\nLocated in the vibrant city of Budapest\, this conference offers a unique opportunity to engage with global thought leaders\, share research\, and contribute to shaping the future of ethical AI. Don't miss this essential forum for advancing Generative AI responsibly and collaboratively.\n\n&nbsp\;
LOCATION:Budapest\, Hungary\, Budapest\, Hungary\, Budapest\, Budapest\, 1014\, Hungary
URL:https://eventstopten.com/events/international-conference-on-generative-ai-and-ethical-innovation-2026/
END:VEVENT
END:VCALENDAR