BEGIN:VCALENDAR
VERSION:2.0
PRODID:-//wp-events-plugin.com//6.0.1.1//EN
BEGIN:VEVENT
UID:791aa2da-24d9-462b-97ef-60cba758232b
DTSTART:20261015T090000Z
DTEND:20261017T180000Z
DTSTAMP:20260313T070036Z
SUMMARY:International Conference on Climate Change\, Sustainability &amp\; Renewable Energy
DESCRIPTION:ClimateEnergy2026 is more than a conference — it’s a global stage for ideas\, technologies\, and policies shaping the future of our planet.\n\nFrom October 15–17\, 2026\, in Prague\, Czech Republic\, the International Conference on Climate Change\, Sustainability &amp\; Renewable Energy will bring together scientists\, innovators\, policymakers\, entrepreneurs\, and activists to address the world’s most urgent climate challenges and accelerate the transition toward a net-zero\, resilient\, and equitable world.\n\nBuilt around three guiding pillars — Climate Change as the Challenge\, Sustainability as the Framework\, and Renewable Energy as the Solution — the conference explores critical priorities including net-zero strategies\, climate finance\, just transitions\, hydrogen economy\, AI for sustainability\, carbon removal\, and climate justice.\n\nBeyond inspiring keynotes and scientific sessions\, ClimateEnergy2026 offers interactive and action-oriented formats such as climate dialogues\, innovation hackathons\, startup pitch zones\, and youth-led forums\, transforming ideas into collaboration and measurable impact.\n\nWhether you are a researcher\, industry leader\, policymaker\, or changemaker\, this is where collaboration meets purpose. At Creovate Conferences\, we don’t just host events — we build ecosystems that advance science\, scale innovation\, and accelerate global sustainability goals.\n\nJoin us in Prague — and be part of the movement shaping the future of our planet.
LOCATION:\, \, 
URL:https://eventstopten.com/events/international-conference-on-climate-change-sustainability-renewable-energy/
END:VEVENT
END:VCALENDAR