BEGIN:VCALENDAR
VERSION:2.0
PRODID:-//wp-events-plugin.com//6.0.1.1//EN
BEGIN:VEVENT
UID:71087371-68ce-40c8-b349-9f830caf3f30
DTSTART:20261019T050000Z
DTEND:20261020T210000Z
DTSTAMP:20260424T080033Z
SUMMARY:International Conference on Advanced Dental And Oral Health
DESCRIPTION:\n\n\nJoin leading dental professionals from around the world at the Conference on Advanced Dental &amp\; Oral Health on October 19-20 2026\, held in Paris\, France a premier event dedicated to the latest innovations and global trends shaping the future of oral healthcare.\n\nHeld at Paris\, under the theme “Global Perspectives on the Future of Oral Health\,” this conference brings together renowned dentists\, oral surgeons\, dental researchers\, technologists\, and public health experts. Participants will gain invaluable insights into cutting-edge topics such as digital dentistry\, implantology\, AI-driven diagnostics\, tele dentistry\, oral-systemic health\, and more.\n\nStay ahead of the curve join now and be part of the transformative and shaping the next era of Dental Health 2026.\n\n\n\n\n\n\n\n\n\n
LOCATION:Millennium Hotel Paris Charles de Gaulle  Address: Zone Hôtelière\, 2 Allée du Verger 95700 Roissy Aéroport Charles de Gaulle\, Millennium Hotel Paris Charles de Gaulle  Address: Zone Hôtelière\, 2 Allée du Verger 95700 Roissy Aéroport Charles de Gaulle\, Paris\, France\, 95700\, Europe\, France
URL:https://eventstopten.com/events/international-conference-on-advanced-dental-and-oral-health/
END:VEVENT
END:VCALENDAR