BEGIN:VCALENDAR
VERSION:2.0
PRODID:-//wp-events-plugin.com//6.0.1.1//EN
BEGIN:VEVENT
UID:ad759036-8d4f-49ed-93e2-5c307dd29af5
DTSTART:20260511T090000Z
DTEND:20260512T170000Z
DTSTAMP:20260313T071617Z
SUMMARY:Insurance Innovators USA 2026 | May 11-12 | Music City Center\, Nashville
DESCRIPTION:This is America’s leading carrier-led conference. It's where insurance innovation is ignited\, rich insights are unlocked and game-changing partnerships are born. If you provide solutions to insurers or insurtech ecosystem\, this is your best opportunity to connect with 1500+ senior insurance professionals all under one roof.\n\n“The blueprint for insurance conferences.” - Forbes\n\nKey topics include:\n- The AI-enabled carrier\n- Emerging risks\n- Auto insurance\n- Data security and resilience\n- Pricing optimization\n- The Next-Gen agent\n- Driving efficiency and speed in claims\n- Innovation in underwriting
LOCATION:\, \, 
URL:https://eventstopten.com/events/insurance-innovators-usa-2026-may-11-12-music-city-center-nashville/
END:VEVENT
END:VCALENDAR