BEGIN:VCALENDAR
VERSION:2.0
PRODID:-//wp-events-plugin.com//6.0.1.1//EN
BEGIN:VEVENT
UID:57899b86-e469-45e1-b990-9034747ccf80
DTSTART:20260708T080000Z
DTEND:20260709T170000Z
DTSTAMP:20260423T160036Z
SUMMARY:IBA European Fashion and Luxury Law Conference 2026
DESCRIPTION:Topics will include:\n\nFrom sustainability to longevity: Circularity\, repair and credible claims\nLuxury demand in transition: Polarization\, pricing power and icon strategies\nOmnichannel clienteling and the store of the future\nAI across design\, merchandising\, content and clienteling: IP\, ethics and control\nSelective distribution 2.0: Marketplaces\, resale partnerships and repairs\nDigital platforms and enforcement: DSA compliance\, seller vetting and counterfeits\nDesign and IP in a fast and virtual world: From runway to digital twins\nDeals and integration in luxury: Craftsmanship assets\, vertical capabilities and brand DNA\nCollaborations\, culture and competition law: Creators\, materials and sustainability
LOCATION:Maison des Polytechniciens\, l'Hôtel de Poulpry\, 12 Rue de Poitiers\, Paris\, Île-de-France\, 75007\, France
URL:https://eventstopten.com/events/iba-european-fashion-and-luxury-law-conference-2026/
END:VEVENT
END:VCALENDAR