BEGIN:VCALENDAR
VERSION:2.0
PRODID:-//wp-events-plugin.com//6.0.1.1//EN
BEGIN:VEVENT
UID:104e5861-be17-43f4-9c0b-14e1ee298ef2
DTSTART:20260425T100000Z
DTEND:20260426T170000Z
DTSTAMP:20260422T153234Z
SUMMARY:Hawaii Sustainability Expo and Electric Home Show
DESCRIPTION:Come see the future! Explore cutting-edge heat pump AC (45% less energy)\, modular home batteries\, take EV test drives\, and learn dozens of ways renters and homeowners can save on their electric bills.
LOCATION:Neal S. Blaisdell Center\,  777 Ward Avenue \, Honolulu\, Hawaii\, 96814\, United States
URL:https://eventstopten.com/events/hawaii-sustainability-expo-and-electric-home-show/
END:VEVENT
END:VCALENDAR