BEGIN:VCALENDAR
VERSION:2.0
PRODID:-//wp-events-plugin.com//6.0.1.1//EN
BEGIN:VEVENT
UID:7b95c975-95dc-472a-8375-be13cbdd6c58
DTSTART:20260817T090000Z
DTEND:20260819T190000Z
DTSTAMP:20260313T100039Z
SUMMARY:Global Infectious Diseases and One Health Conference 2026
DESCRIPTION:The Global Infectious Diseases and One Health Conference (GIOH 2026)\, taking place August 17–19\, 2026 in London\, UK and Online with full hybrid access\, brings together global leaders working at the intersection of infectious diseases\, environmental health\, and human–animal ecosystems.
LOCATION:Delta Hotels Heathrow Windsor Ditton Rd\, Langley\, Slough London\, United Kingdom\, SL3 8PT\, Delta Hotels Heathrow Windsor Ditton Rd\, Langley\, Slough London\, United Kingdom\, SL3 8PT\, london\, united kingdom\, SL3 8PT\, United Kingdom
URL:https://eventstopten.com/events/global-infectious-diseases-and-one-health-conference-2026-2/
END:VEVENT
END:VCALENDAR