BEGIN:VCALENDAR
VERSION:2.0
PRODID:-//wp-events-plugin.com//6.0.1.1//EN
BEGIN:VEVENT
UID:3c7c265c-25db-47b5-ad79-7edc82fb6106
DTSTART:20260914T213000Z
DTEND:20260915T183000Z
DTSTAMP:20260314T020010Z
SUMMARY:Global Forum on Public Health &amp\; Health Care Medicine
DESCRIPTION:The Global Forum on Public Health &amp\; Health Care Medicine (GLOBALMEDCARE 2026)\, organized by VidKnox Group\, will be held on September 14–15\, 2026\, in Bangkok\, Thailand. The forum brings together global leaders\, researchers\, clinicians\, and policymakers to discuss innovations\, equity\, sustainability\, and AI-driven solutions in public health and healthcare systems.\n\n&nbsp\;
LOCATION:Bangkok\, Bangkok\, Thailand\, Bangkok\, Thailand\, 10200\, Thailand\, Thailand
URL:https://eventstopten.com/events/global-forum-on-public-health-health-care-medicine/
END:VEVENT
END:VCALENDAR