BEGIN:VCALENDAR
VERSION:2.0
PRODID:-//wp-events-plugin.com//6.0.1.1//EN
BEGIN:VEVENT
UID:18b0c347-a740-46f3-beb7-7b3e081a0c49
DTSTART:20260914T100000Z
DTEND:20260915T180000Z
DTSTAMP:20260314T011508Z
SUMMARY:Global Forum on Public Health &amp\; Health Care Medicine (GLOBALMEDCARE2026)
DESCRIPTION:The Global Forum on Public Health &amp\; Health Care Medicine (GLOBALMEDCARE 2026)\, organized by VidKnox Group\, will be held on September 14–15\, 2026\, in Bangkok\, Thailand. The forum brings together global leaders\, researchers\, clinicians\, and policymakers to discuss innovations\, equity\, sustainability\, and AI-driven solutions in public health and healthcare systems.
LOCATION:Bangkok\, Bangkok\, Bangkok\, Thailand\, 10200\, Bangkok\, Thailand
URL:https://eventstopten.com/events/global-forum-on-public-health-health-care-medicine-globalmedcare2026-2/
END:VEVENT
END:VCALENDAR