BEGIN:VCALENDAR
VERSION:2.0
PRODID:-//wp-events-plugin.com//6.0.1.1//EN
BEGIN:VEVENT
UID:9c054a25-f54e-4a04-a488-cd079619b4d4
DTSTART:20261012T090000Z
DTEND:20261013T180000Z
DTSTAMP:20260314T013024Z
SUMMARY:Global Forum on Materials Science and Nanotechnology
DESCRIPTION:The Global Forum on Materials Science and Nanotechnology\, scheduled for October 12-13 2026 at London\, United Kingdom\, stands as a premier global forum dedicated to advancing scientific discovery and technological innovation. Organized by VidKnox Group\, the conference centers on the theme “Next-Generation Materials and Nanotech for a Smarter Planet.”\, bringing together distinguished researchers\, academicians\, and industry professionals to explore emerging insights shaping the future of the field.\nThrough its comprehensive program featuring keynote lectures\, technical presentations\, panel discussions\, and special sessions the event creates a dynamic environment for collaboration and intellectual exchange. Participants will have the opportunity to engage with pioneering research\, discuss contemporary challenges\, and identify new directions for impactful scientific progress.\nVidKnox Group cordially invites scholars\, experts\, and innovators from around the world to join this esteemed gathering. MATSCI2026 aims to deliver an inspiring and enriching experience\, enabling attendees to strengthen professional networks\, gain valuable knowledge\, and contribute meaningfully to global advancements.
LOCATION:London\, London\, London\, UK\, SW1A 0AA\, United Kingdom
URL:https://eventstopten.com/events/global-forum-on-materials-science-and-nanotechnology/
END:VEVENT
END:VCALENDAR