BEGIN:VCALENDAR
VERSION:2.0
PRODID:-//wp-events-plugin.com//6.0.1.1//EN
BEGIN:VEVENT
UID:f8dfb408-1ce0-4d35-aff4-72ce0d535178
DTSTART;VALUE=DATE:20261112
DTEND;VALUE=DATE:20261114
DTSTAMP:20260313T211643Z
SUMMARY:Global Forum on ENT\, Audiology &amp\; Speech-Language Pathology
DESCRIPTION:The Global Forum on ENT\, Audiology &amp\; Speech-Language Pathology\, scheduled for November 12-13\, 2026 at Dubai\, UAE\, stands as a premier global forum dedicated to advancing scientific discovery and technological innovation. Organized by VidKnox Group\, the conference centers on the theme “Innovation in ENT\, Audiology &amp\; Speech Sciences: Shaping Tomorrow’s Care.”\, bringing together distinguished researchers\, academicians\, and industry professionals to explore emerging insights shaping the future of the field.\nThrough its comprehensive program featuring keynote lectures\, technical presentations\, panel discussions\, and special sessions the event creates a dynamic environment for collaboration and intellectual exchange. Participants will have the opportunity to engage with pioneering research\, discuss contemporary challenges\, and identify new directions for impactful scientific progress.\nVidKnox Group cordially invites scholars\, experts\, and innovators from around the world to join this esteemed gathering. AUDIOFORUM2026 aims to deliver an inspiring and enriching experience\, enabling attendees to strengthen professional networks\, gain valuable knowledge\, and contribute meaningfully to global advancements.
LOCATION:Dubai\, UAE\, Dubai\, UAE\, +971\, UAE\, United Arab Emirates
URL:https://eventstopten.com/events/global-forum-on-ent-audiology-speech-language-pathology/
END:VEVENT
END:VCALENDAR