BEGIN:VCALENDAR
VERSION:2.0
PRODID:-//wp-events-plugin.com//6.0.1.1//EN
BEGIN:VEVENT
UID:bfb302e1-c2dc-4149-9219-67542807f3d9
DTSTART:20261112T000000Z
DTEND:20261113T000000Z
DTSTAMP:20260314T004509Z
SUMMARY:Global Forum on ENT\, Audiology &amp\; Speech-Language Pathology
DESCRIPTION:The Global Forum on ENT\, Audiology &amp\; Speech-Language Pathology\, scheduled for November 12-13\, 2026 at Dubai\, UAE\, stands as a premier global forum dedicated to advancing scientific discovery and technological innovation. Organized by VidKnox Group\, the conference centers on the theme “Innovation in ENT\, Audiology &amp\; Speech Sciences: Shaping Tomorrow’s Care.”\, bringing together distinguished researchers\, academicians\, and industry professionals to explore emerging insights shaping the future of the field.
LOCATION:Dubai UAE\, Dubai\, Dubai\, UAE\, 44\, UAE\, United Arab Emirates
URL:https://eventstopten.com/events/global-forum-on-ent-audiology-speech-language-pathology-2/
END:VEVENT
END:VCALENDAR