BEGIN:VCALENDAR
VERSION:2.0
PRODID:-//wp-events-plugin.com//6.0.1.1//EN
BEGIN:VEVENT
UID:93a716b3-4903-45c6-91f9-b8d35ef551c2
DTSTART:20261014T080000Z
DTEND:20261015T160000Z
DTSTAMP:20260314T013023Z
SUMMARY:Global Forum on Earth Science\, Climate Change &amp\; Sustainability  EARTHCLIMATEFORUM2026
DESCRIPTION:The Global Forum on Earth Science\, Climate Change &amp\; Sustainability (EARTHCLIMATEFORUM2026) is an international platform that brings together scientists\, researchers\, policymakers\, industry experts\, and sustainability leaders from around the world. The forum focuses on advancing knowledge of Earth systems while addressing the urgent challenges posed by climate change and environmental degradation.\n\nThe conference highlights recent scientific developments in Earth sciences\, climate modeling\, environmental monitoring\, and sustainable resource management. It encourages interdisciplinary dialogue to bridge research\, policy\, and practical solutions that support climate resilience and sustainable development.\n\nEARTHCLIMATEFORUM2026 also serves as a hub for collaboration and networking\, fostering partnerships across academia\, industry\, and government. Through keynote lectures\, technical sessions\, and interactive discussions\, the forum aims to inspire innovative approaches and collective action toward a more sustainable and climate-resilient future.
LOCATION:Amsterdam\, Netherlands\, Amsterdam\, Netherlands\, Amsterdam\, Netherlands\, Amsterdam\, Netherlands\, 1011AA\, Netherlands
URL:https://eventstopten.com/events/global-forum-on-earth-science-climate-change-sustainability-earthclimateforum2026/
END:VEVENT
END:VCALENDAR