BEGIN:VCALENDAR
VERSION:2.0
PRODID:-//wp-events-plugin.com//6.0.1.1//EN
BEGIN:VEVENT
UID:c29e4394-e69a-45dd-b103-ce2de78132fa
DTSTART:20261012T090000Z
DTEND:20261013T183000Z
DTSTAMP:20260313T091613Z
SUMMARY:Global Forum on Civil\, Structural &amp\; Smart Infrastructure Engineering
DESCRIPTION:The Global Forum on Civil\, Structural &amp\; Smart Infrastructure Engineering\, scheduled for October 12-13 2026 at Bali\, Indonesia\, stands as a premier global forum dedicated to advancing scientific discovery and technological innovation. Organized by VidKnox Group\, the conference centers on the theme “Smart\, Safe\, Sustainable: Transforming Civil &amp\; Structural Systems for Tomorrow’s Cities.”\, bringing together distinguished researchers\, academicians\, and industry professionals to explore emerging insights shaping the future of the field.\nThrough its comprehensive program featuring keynote lectures\, technical presentations\, panel discussions\, and special sessions the event creates a dynamic environment for collaboration and intellectual exchange. Participants will have the opportunity to engage with pioneering research\, discuss contemporary challenges\, and identify new directions for impactful scientific progress.\nVidKnox Group cordially invites scholars\, experts\, and innovators from around the world to join this esteemed gathering. SMARTCIVIL2026 aims to deliver an inspiring and enriching experience\, enabling attendees to strengthen professional networks\, gain valuable knowledge\, and contribute meaningfully to global advancements.\n
LOCATION:\, \, 
URL:https://eventstopten.com/events/global-forum-on-civil-structural-smart-infrastructure-engineering/
END:VEVENT
END:VCALENDAR