BEGIN:VCALENDAR
VERSION:2.0
PRODID:-//wp-events-plugin.com//6.0.1.1//EN
BEGIN:VEVENT
UID:a8d956eb-4b78-40b7-8e1e-4070933a7c4c
DTSTART;VALUE=DATE:20261012
DTEND;VALUE=DATE:20261014
DTSTAMP:20260314T014515Z
SUMMARY:Global Forum on Civil\, Structural &amp\; Smart Infrastructure Engineering 2026
DESCRIPTION:The Global Forum on Civil\, Structural &amp\; Smart Infrastructure Engineering\, scheduled for October 12-13 2026 at Bali\, Indonesia\, stands as a premier global forum dedicated to advancing scientific discovery and technological innovation. Organized by VidKnox Group\, the conference centers on the theme “Smart\, Safe\, Sustainable: Transforming Civil &amp\; Structural Systems for Tomorrow’s Cities.”\, bringing together distinguished researchers\, academicians\, and industry professionals to explore emerging insights shaping the future of the field.
LOCATION:\, \, 
URL:https://eventstopten.com/events/global-forum-on-civil-structural-smart-infrastructure-engineering-2026-2/
END:VEVENT
END:VCALENDAR