BEGIN:VCALENDAR
VERSION:2.0
PRODID:-//wp-events-plugin.com//6.0.1.1//EN
BEGIN:VEVENT
UID:9fae6020-dd9d-4ff9-a09d-174b0f9bddf5
DTSTART:20261012T080000Z
DTEND:20261013T234500Z
DTSTAMP:20260314T011509Z
SUMMARY:Global Forum on Advanced Polymers and Smart Materials
DESCRIPTION:The Global Forum on Advanced Polymers and Smart Materials\, scheduled for October 12-13\, 2026 at London\, United Kingdom \, stands as a premier global forum dedicated to advancing scientific discovery and technological innovation. Organized by VidKnox Group\, the conference centers on the theme “Innovations in Sustainable Polymers for a Circular Future.”\, bringing together distinguished researchers\, academicians\, and industry professionals to explore emerging insights shaping the future of the field.
LOCATION:London\, United Kingdom\, London\, United Kingdom\, london\, united kingdom\, NW1 9PF\, United Kingdom
URL:https://eventstopten.com/events/global-forum-on-advanced-polymers-and-smart-materials/
END:VEVENT
END:VCALENDAR